BEGIN:VCALENDAR
VERSION:2.0
PRODID:-//www.fundwps.org//NONSGML kigkonsult.se iCalcreator 2.30.10//
CALSCALE:GREGORIAN
METHOD:PUBLISH
UID:65783361-5496-41c0-a6b1-f868c0e146ad
X-WR-CALDESC:
X-WR-RELCALID:65482ea88e2762aa040853211ce818e4
X-WR-TIMEZONE:America/Denver
BEGIN:VTIMEZONE
TZID:America/Denver
BEGIN:STANDARD
TZNAME:MST
DTSTART:20211107T020000
TZOFFSETFROM:-0600
TZOFFSETTO:-0700
RDATE:20221106T020000
END:STANDARD
BEGIN:DAYLIGHT
TZNAME:MDT
DTSTART:20210314T020000
TZOFFSETFROM:-0700
TZOFFSETTO:-0600
RDATE:20220313T020000
RDATE:20230312T020000
END:DAYLIGHT
END:VTIMEZONE
BEGIN:VEVENT
UID:4be4ec3a-b527-471e-a2ca-48be3972e805
DTSTAMP:20260421T063635Z
DESCRIPTION:
DTSTART;TZID=America/Denver:20211107T160000
DTEND;TZID=America/Denver:20211107T200000
LOCATION:Dick's Sporting Good Park
SUMMARY:Teacher Appreciate Night with the CO Rapids
END:VEVENT
END:VCALENDAR
